Workbook

Sheet Dashboard

Sheet BAB I

Sheet BAB I - Cokas 1
B2: Laporan Posisi Keuangan
B3: 31 Desember 2020
C4: PT Maju Jaya | D4: PT Sinar Abadi
C5: Nilai Buku | D5: Nilai Buku | E5: Nilai Wajar
B6: Kas
B7: Piutang Usaha
B8: Persediaan
B9: Tanah
B10: Bangunan dan Mesin
B11: Akumulasi Penyusutan
B12: Total Aset | C12: =SUM(C6:C11) -> 0 | D12: =SUM(D6:D11) -> 0 | E12: =SUM(E6:E11) -> 0
B13: Utang Usaha
B14: Utang Wesel
B15: Saham Biasa
B16: Tambahan Modal Disetor
B17: Saldo Laba
B18: Total Liabilitas dan Ekuitas | C18: =SUM(C13:C17) -> 0 | D18: =SUM(D13:D17) -> 0
B21: Menentukan nilai wajar aset neto:
B22: Total Nilai Wajar Aset Bersih | C22: =E12 -> 0
B23: Total Liabilitas | C23: =E13+E14 -> 0
B24: Aset Neto Teridentifikasi | C24: =C22-C23 -> 0
B26: Menentukan goodwill yang terjadi:
B27: Imbalan yang dialihkan
B28: Aset Neto Teridentifikasi | C28: =C24 -> 0
B29: Goodwill | C29: =C27-C28 -> 0
B31: Mencatat jurnal biaya:
B32: Beban Akuisisi
B33: Kas | D33: =C32 -> 0
B35: Mencatat jurnal pengakuan aset dan liabilitas berdasarkan nilai wajar:
B36: Kas | C36: =E6 -> 0
B37: Piutang Usaha | C37: =E7 -> 0
B38: Persediaan | C38: =E8 -> 0
B39: Tanah | C39: =E9 -> 0
B40: Bangunan dan Mesin | C40: =E10 -> 0
B41: Goodwill | C41: =C29 -> 0
B42: Utang Usaha | D42: =E13 -> 0
B43: Utang Wesel | D43: =E14 -> 0
B44: Kas (Imbalan yang diberikan) | D44: =C27 -> 0

Sheet BAB I - Cokas 2
B2: Laporan Posisi Keuangan
B3: 31 Desember 2022
C4: PT Maju Jaya | D4: PT Sinar Abadi
C5: Nilai Buku | D5: Nilai Buku | E5: Nilai Wajar
B6: Kas
B7: Piutang Usaha
B8: Persediaan
B9: Tanah
B10: Bangunan dan Mesin
B11: Akumulasi Penyusutan
B12: Total Aset | C12: =SUM(C6:C11) -> 0 | D12: =SUM(D6:D11) -> 0 | E12: =SUM(E6:E11) -> 0
B13: Utang Usaha
B14: Utang Wesel
B15: Saham Biasa
B16: Tambahan Modal Disetor
B17: Saldo Laba
B18: Total Liabilitas dan Ekuitas | C18: =SUM(C13:C17) -> 0 | D18: =SUM(D13:D17) -> 0
B21: Menentukan nilai wajar aset neto:
B22: Total Nilai Wajar Aset Bersih | C22: =E12 -> 0
B23: Total Liabilitas | C23: =E13+E14 -> 0
B24: Aset Neto Teridentifikasi | C24: =C22-C23 -> 0
B26: Menentukan goodwill yang terjadi:
B27: Imbalan yang dialihkan
B28: Aset Neto Teridentifikasi | C28: =C24 -> 0
B29: Keuntungan pembelian diskon | C29: =C27-C28 -> 0
B31: Mencatat jurnal biaya:
B32: Beban Akuisisi
B33: Kas | D33: =C32 -> 0
B35: Mencatat jurnal pengakuan aset dan liabilitas berdasarkan nilai wajar:
B36: Kas | C36: =E6 -> 0
B37: Piutang Usaha | C37: =E7 -> 0
B38: Persediaan | C38: =E8 -> 0
B39: Tanah | C39: =E9 -> 0
B40: Bangunan dan Mesin | C40: =E10 -> 0
B41: Utang Usaha | D41: =E13 -> 0
B42: Utang Wesel | D42: =E14 -> 0
B43: Kas (Imbalan yang diberikan) | D43: =C27 -> 0
B44: Diskon | D44: =C29 -> 0

Sheet BAB I - Cokas 3
B2: Laporan Posisi Keuangan
B3: 31 Desember 2020
C4: PT Maju Jaya | D4: PT Sinar Abadi
C5: Nilai Buku | D5: Nilai Buku | E5: Nilai Wajar
B6: Kas
B7: Piutang Usaha
B8: Persediaan
B9: Tanah
B10: Bangunan dan Mesin
B11: Akumulasi Penyusutan
B12: Total Aset | C12: =SUM(C6:C11) -> 0 | D12: =SUM(D6:D11) -> 0 | E12: =SUM(E6:E11) -> 0
B13: Utang Usaha
B14: Utang Wesel
B15: Saham Biasa
B16: Tambahan Modal Disetor
B17: Saldo Laba
B18: Total Liabilitas dan Ekuitas | C18: =SUM(C13:C17) -> 0 | D18: =SUM(D13:D17) -> 0
B21: Menentukan nilai wajar aset neto:
B22: Total Nilai Wajar Aset Bersih | C22: =E12 -> 0
B23: Total Liabilitas | C23: =E13+E14 -> 0
B24: Aset Neto Teridentifikasi | C24: =C22-C23 -> 0
B26: Menentukan goodwill yang terjadi:
B27: Imbalan yang dialihkan
B28: Aset Neto Teridentifikasi | C28: =C24 -> 0
B29: Goodwill | C29: =C27-C28 -> 0
B31: Mencatat jurnal biaya:
B32: Beban Akuisisi
B33: Beban Tangguhan
B34: Kas | D34: =C32+C33 -> 0
B36: Mencatat jurnal pengakuan aset dan liabilitas berdasarkan nilai wajar:
B37: Kas | C37: =E6 -> 0
B38: Piutang Usaha | C38: =E7 -> 0
B39: Persediaan | C39: =E8 -> 0
B40: Tanah | C40: =E9 -> 0
B41: Bangunan dan Mesin | C41: =E10 -> 0
B42: Goodwill | C42: =C29 -> 0
B43: Utang Usaha | D43: =E13 -> 0
B44: Utang Wesel | D44: =E14 -> 0
B45: Saham Biasa
B46: Tambahan Modal Disetor | D46: =C27-D45-C33 -> 0
B47: Beban Tangguhan | D47: =C33 -> 0

Sheet Latihan Soal
B2: Laporan Posisi Keuangan
B3: 31 Desember 2025
C4: PT Vinka | D4: PT Prasman
C5: Nilai Buku | D5: Nilai Buku | E5: Nilai Wajar
B6: Kas
B7: Piutang Usaha
B8: Persediaan
B9: Tanah
B10: Bangunan dan Mesin
B11: Akumulasi Penyusutan
B12: Total Aset | C12: =SUM(C6:C11) -> 0 | D12: =SUM(D6:D11) -> 0 | E12: =SUM(E6:E11) -> 0
B13: Utang Usaha
B14: Utang Wesel
B15: Saham Biasa
B16: Tambahan Modal Disetor
B17: Saldo Laba
B18: Total Liabilitas dan Ekuitas | C18: =SUM(C13:C17) -> 0 | D18: =SUM(D13:D17) -> 0
B21: Menentukan nilai wajar aset neto:
B22: Total Nilai Wajar Aset Bersih | C22: =E12 -> 0
B23: Total Liabilitas | C23: =E13+E14 -> 0
B24: Aset Neto Teridentifikasi | C24: =C22-C23 -> 0
B26: Menentukan goodwill yang terjadi:
B27: Imbalan yang dialihkan
B28: Aset Neto Teridentifikasi | C28: =C24 -> 0
B29: Goodwill | C29: =C27-C28 -> 0
B31: Mencatat jurnal biaya:
B32: Beban Akuisisi
B33: Kas | D33: =C32 -> 0
B35: Mencatat jurnal pengakuan aset dan liabilitas berdasarkan nilai wajar:
B36: Kas | C36: =E6 -> 0
B37: Piutang Usaha | C37: =E7 -> 0
B38: Persediaan | C38: =E8 -> 0
B39: Tanah | C39: =E9 -> 0
B40: Bangunan dan Mesin | C40: =E10 -> 0
B41: Goodwill | C41: =C29 -> 0
B42: Utang Usaha | D42: =E13 -> 0
B43: Utang Wesel | D43: =E14 -> 0
B44: Kas (Imbalan yang diberikan) | D44: =C27 -> 0

Sheet BAB II

Sheet Cokas I
B1: (Dalam Rp,-)
B2: PT STARK & PT XMEN
B3: NERACA SALDO
B4: PER 31 DESEMBER 2026
B5: AKUN | C5: PT STARK | E5: PT XMEN
C6: DEBIT | D6: KREDIT | E6: DEBIT | F6: KREDIT
B7: Kas dan Setara Kas
B8: Piutang Usaha
B9: Persediaan
B10: Investasi pada PT XMEN
B11: Tanah
B12: Bangunan dan Peralatan
B13: Merek Dagang
B14: Akumulasi Penyusutan
B15: Akumulasi Amortisasi
B16: Utang Usaha
B17: Utang Obligasi
B18: Saham Biasa
... B26: Dividen
B27: Total | C27: =SUM(C7:C26) -> 0 | D27: =SUM(D7:D26) -> 0 | E27: =SUM(E7:E26) -> 0 | F27: =SUM(F7:F26) -> 0
B29: Informasi Tambahan:
B30: 1. Pada tanggal 1 Januari 2026 PT STARK membeli 80% saham PT XMEN sebesar Rp 320.000.000. Nilai wajar kepentingan nonpengendali Rp 80.000.000
B31: 2. Selama tahun 2026, PT XMEN memperoleh laba sebesar Rp 80.000.000 dan membagikan dividen sebesar Rp 20.000.000.
B32: 3. Dalam transaksi penjualan PT. STARK, terdapat penjualan kepada PT XMEN sebesar Rp 40.000.000 dengan beban pokok penjualan terkait Rp 16.000.000.
B33: 4. Sampai 31 Desember 2026 persediaan yang diperoleh PT XMEN dari PT. STARK seluruhnya belum terjual kepada pihak luar.
B35: Diminta:
B36: 1. Buatlah Kertas Kerja Konsolidasi!
B37: 2. Buatlah Jurnal Eliminasi yang Dibutuhkan!
B39: Jawaban:
B40: 1. 1 Januari 2026
B41: Investasi pada PT. XMEN
B42: Kas
... B55: (Dalam Rp,-)
B56: Akun | C56: PT STARK | D56: PT XMEN | E56: Sebelum Konsolidasi | F56: Eliminasi | G56: Konsolidasi
B57: Penjualan | D57: - | E57: =C57 -> 0 | G57: 0
B58: Beban Pokok Penjualan | D58: - | E58: =C58 -> 0 | G58: 0
B59: Laba Kotor | C59: =C57+C58 -> 0 | D59: - | E59: =C59 -> 0 | F59: =-C59 -> 0 | G59: 0
B62: Jurnal Eliminasi
B63: Penjualan | C63: =C57 -> 0
B64: Beban Pokok Penjualan | D64: =F58 -> 0
B65: Persediaan | D65: =C59 -> 0
B67: 4. Menentukan berapa perubahan investasi yang dilakukan oleh PT. STARK
B68: Nilai Investasi 31 Des 2026 (80%)
B69: Awal | C69: =C41 -> 0
B70: Bagian Laba PT. XMEN
B71: Dividen | C71: =-D52 -> 0
C72: =C69+C70+C71 -> 0
B73: Keuntungan belum terealisasi
B74: Saldo Akhir Investasi | C74: =C72+C73 -> 0
B76: Kepentingan Non Pengendali (20%)
B77: Awal
B78: Bagian Laba PT. XMEN
B79: Dividen | C79: =-0.2*E26 -> 0
B80: Saldo Akhir Investasi | C80: =C77+C78+C79 -> 0
B82: Menentukan berapa perubahan terkait dengan laba ditahan baik itu dari PT. STARK dan PT. XMEN:
B83: Saldo Laba PT. STARK
B84: Awal | C84: =D19 -> 0
B85: Laba PT. STARK | C85: =D20+D21-C22-C23-C24-C25 -> 0
B86: Dividen | C86: =-C26 -> 0
B87: Saldo Akhir | C87: =C84+C85+C86 -> 0
B89: Saldo Laba PT. XMEN
B90: Awal | C90: =F19 -> 0
B91: Laba PT. XMEN | C91: =F20-E22-E23-E24 -> 0
B92: Dividen | C92: =-E26 -> 0
B93: Saldo Akhir | C93: =C90+C91+C92 -> 0

Sheet Kertas Kerja Konsolidasi
B6: PT. STARK DAN PT XMEN
B7: KERTAS KERJA KONSOLIDASI
B8: 31 DESEMBER 2026
B9: Nama Akun | C9: PT. STARK | D9: PT. XMEN | E9: Eliminasi | G9: Konsolidasi
E10: Debit | F10: Kredit | G10: Debit | H10: Kredit
B11: Kas dan Setara Kas | C11: ='Cokas I'!C7 -> 0 | D11: ='Cokas I'!E7 -> 0 | G11: =C11+D11 -> 0
B12: Piutang Usaha | C12: ='Cokas I'!C8 -> 0 | D12: ='Cokas I'!E8 -> 0 | G12: =C12+D12 -> 0
B13: Persediaan | C13: ='Cokas I'!C9 -> 0 | D13: ='Cokas I'!E9 -> 0 | F13: ='Cokas I'!D65 -> 0 | G13: =C13+D13-F13 -> 0
B14: Investasi pada PT. XMEN | C14: ='Cokas I'!C10 -> 0 | F14: ='Cokas I'!C74 -> 0
B15: Tanah | C15: ='Cokas I'!C11 -> 0 | D15: ='Cokas I'!E11 -> 0 | G15: =C15+D15 -> 0
B16: Bangunan dan Peralatan | C16: ='Cokas I'!C12 -> 0 | D16: ='Cokas I'!E12 -> 0 | G16: =C16+D16 -> 0
B17: Akumulasi Penyusutan | C17: =-'Cokas I'!D14 -> 0 | D17: =-'Cokas I'!F14 -> 0 | G17: =C17+D17 -> 0
B18: Merek Dagang | C18: ='Cokas I'!C13 -> 0 | G18: =C18 -> 0
B19: Akumulasi Amortisasi | C19: =-'Cokas I'!D15 -> 0 | G19: =C19 -> 0
B20: Total Aset | C20: =SUM(C11:C19) -> 0 | D20: =SUM(D11:D19) -> 0
B21: Utang Usaha | C21: ='Cokas I'!D16 -> 0 | D21: ='Cokas I'!F16 -> 0 | H21: =C21+D21 -> 0
B22: Utang Obligasi | C22: ='Cokas I'!D17 -> 0 | D22: ='Cokas I'!F17 -> 0 | H22: =C22+D22 -> 0
B23: Saham Biasa | C23: ='Cokas I'!D18 -> 0 | D23: ='Cokas I'!F18 -> 0 | E23: =D23 -> 0 | H23: =C23 -> 0
B24: Saldo Laba | C24: ='Cokas I'!C87 -> 0 | D24: ='Cokas I'!C93 -> 0 | E24: =D24 -> 0 | H24: =C24 -> 0
B25: Kepentingan Non Pengendali | F25: ='Cokas I'!C80 -> 0 | H25: =F25 -> 0
B26: Total | C26: =SUM(C21:C25) -> 0 | D26: =SUM(D21:D25) -> 0 | E26: =SUM(E23:E24) -> 0 | F26: =SUM(F11:F25) -> 0 | G26: =SUM(G11:G25) -> 0 | H26: =SUM(H11:H25) -> 0

Sheet Kasus I
B1: PT. CAPRICORN DAN PT. LIBRA
B2: NERACA SALDO
B3: PER 31 DESEMBER 2025
B4: AKUN | C4: PT. Capricorn | E4: PT. Libra
C5: DEBIT | D5: KREDIT | E5: DEBIT | F5: KREDIT
B6: Kas dan Setara Kas
B7: Piutang Usaha
B8: Persediaan
B9: Investasi pada PT. Libra
B10: Tanah
B11: Bangunan dan Peralatan
B12: Merek Dagang
B13: Akumulasi Penyusutan
B14: Akumulasi Amortisasi
B15: Utang Usaha
B16: Utang Obligasi
B17: Saham Biasa
... B25: Dividen
B26: Total | C26: 8742500000 | D26: 8742500000 | E26: 1990000000 | F26: 1990000000
B28: Informasi Tambahan:
B29: 1. Pada tanggal 1 Januari 2025 PT. Capricorn membeli 75% saham PT. Libra sebesar Rp 712.500.000. Nilai wajar Kepentingan Non Pengendali Rp 237.500.000.
B30: 2. Selama tahun 2025, PT. Libra memperoleh laba sebesar Rp 70.000.000 dan membagikan dividen sebesar Rp 40.000.000.
B31: 3. Dalam transaksi penjualan PT. Capricorn, terdapat penjualan kepada PT. Libra sebesar Rp 75.000.000 dengan beban pokok penjualan terkait Rp 30.000.000.
B32: 4. Sampai 31 Desember 2025 persediaan yang diperoleh PT. Libra dari PT. Capricorn seluruhnya belum terjual kepada pihak luar.
B34: Diminta:
B35: 1. Buatlah Kertas Kerja Konsolidasi!
B36: 2. Buatlah Jurnal Eliminasi yang Dibutuhkan!
B38: Jawaban:
B39: 1. 1 Januari 2025
B40: Investasi pada PT. Libra
B41: Kas
... B54: (Dalam Rp,-)
B55: Akun | C55: PT STARK | D55: PT XMEN | E55: Sebelum Konsolidasi | F55: Eliminasi | G55: Konsolidasi
B56: Penjualan | D56: - | F56: ='Cokas I'!F57 -> 0 | G56: 0
B57: Beban Pokok Penjualan | D57: - | F57: ='Cokas I'!F58 -> 0 | G57: 0
B58: Laba Kotor | D58: - | F58: ='Cokas I'!F59 -> 0 | G58: 0
B61: Jurnal Eliminasi
B62: Penjualan
B63: Beban Pokok Penjualan
B64: Persediaan
B66: 4. Menentukan berapa perubahan investasi yang dilakukan oleh PT. STARK
B67: Nilai Investasi 31 Des 2026 (80%)
B68: Awal
B69: Bagian Laba PT. Libra
B70: Dividen
B72: Keuntungan belum terealisasi
B73: Saldo Akhir Investasi
B75: Kepentingan Non Pengendali (20%)
... B92: Saldo Akhir

Sheet Kertas Kerja Kasus 1
A1: PT. CAPRICORN DAN PT. LIBRA
A2: KERTAS KERJA KONSOLIDASI
A3: 31 DESEMBER 2025
A4: Nama Akun | B4: PT. Capricorn | C4: PT. Libra | D4: Eliminasi | F4: Konsolidasi
D5: Debit | E5: Kredit | F5: Debit | G5: Kredit
A6: Kas dan Setara Kas | B6: ='Kasus I'!C6 -> 0 | C6: ='Kasus I'!E6 -> 0 | F6: =B6+C6 -> 0
A7: Piutang Usaha | B7: ='Kasus I'!C7 -> 0 | C7: ='Kasus I'!E7 -> 0 | F7: =B7+C7 -> 0
A8: Persediaan | B8: ='Kasus I'!C8 -> 0 | C8: ='Kasus I'!E8 -> 0 | E8: ='Kasus I'!D64 -> 0 | F8: =B8+C8-E8 -> 0
A9: Investasi pada PT. Libra | B9: ='Kasus I'!C9 -> 0 | E9: ='Kasus I'!C73 -> 0
A10: Tanah | B10: ='Kasus I'!C10 -> 0 | C10: ='Kasus I'!E10 -> 0 | F10: =B10+C10 -> 0
A11: Bangunan dan Peralatan | B11: ='Kasus I'!C11 -> 0 | C11: ='Kasus I'!E11 -> 0 | F11: =B11+C11 -> 0
A12: Akumulasi Penyusutan | B12: =-'Kasus I'!D13 -> 0 | C12: =-'Kasus I'!F13 -> 0 | F12: =B12+C12 -> 0
A13: Merek Dagang | B13: ='Kasus I'!C12 -> 0 | F13: =B13 -> 0
A14: Akumulasi Amortisasi | B14: =-'Kasus I'!D14 -> 0 | F14: =B14 -> 0
A15: Total Aset | B15: =SUM(B6:B14) -> 0 | C15: =SUM(C6:C14) -> 0
A16: Utang Usaha | B16: ='Kasus I'!D15 -> 0 | C16: ='Kasus I'!F15 -> 0 | G16: =B16+C16 -> 0
A17: Utang Obligasi | B17: ='Cokas I'!D17 -> 0 | C17: ='Kasus I'!F16 -> 0 | G17: =B17+C17 -> 0
A18: Saham Biasa | B18: ='Kasus I'!D17 -> 0 | C18: ='Kasus I'!F17 -> 0 | D18: =C18 -> 0 | G18: =B18 -> 0
A19: Saldo Laba | B19: ='Kasus I'!C86 -> 0 | C19: ='Kasus I'!C92 -> 0 | D19: =C19 -> 0 | G19: =B19 -> 0
A20: Kepentingan Non Pengendali | E20: ='Kasus I'!C79 -> 0 | G20: =E20 -> 0
A21: Total | B21: =SUM(B16:B20) -> 0 | C21: =SUM(C16:C20) -> 0 | D21: =SUM(D18:D19) -> 0 | E21: =SUM(E6:E20) -> 0 | F21: =SUM(F6:F20) -> 0 | G21: =SUM(G6:G20) -> 0

Sheet BAB III

Sheet CokasBABIII
B1: PT NUSANTARA DAN PT SENTOSA
B2: NERACA SALDO
B3: PER 31 DESEMBER 2024
F5: (Dalam Rp,-)
B6: Akun | C6: PT Nusantara | E6: PT Sentosa
C7: Debit | D7: Kredit | E7: Debit | F7: Kredit
B8: Kas dan Setara kas
B9: Piutang Usaha
B10: Persediaan
B11: Investasi pada PT Sentosa
B12: Tanah
B13: Bangunan & Peralatan
B14: Merek Dagang
B15: Akumulasi Penyusutan
B16: Akumulasi Amortisasi
B17: Utang Usaha
B18: Utang Obligasi
B19: Saham Biasa
... B28: Dividen Diumumkan
B29: Total | C29: =SUM(C8:C28) -> 0 | D29: =SUM(D8:D28) -> 0 | E29: =SUM(E8:E28) -> 0 | F29: =SUM(F8:F28) -> 0
B31: Informasi Tambahan:
B32: 1. Pada 1 Januari 2024, PT Nusantara mengakuisisi kepemilikan sebesar 80% atas saham PT Sentosa dengan harga perolehan sesuai nilai bukunya, yaitu Rp960.000.000. Nilai wajar kepentingan nonpengendali diketahui setara dengan nilai bukunya, yakni sebesar Rp240.000.000.
B33: 2. Selama tahun 2024, PT Sentosa melaporkan perolehan laba neto sebesar Rp240.000.000 dan mengumumkan pembagian dividen sebesar Rp40.000.000
B34: 3. Di dalam saldo akun tanah milik PT Sentosa, tercatat sebidang tanah yang sebelumnya dibeli dari PT Nusantara seharga Rp260.000.000. Tanah itu sendiri sebelumnya diperoleh PT Nusantara dari pihak luar (non-afiliasi) dengan harga Rp200.000.000, sehingga atas penjualan tersebut PT Nusantara mencatat keuntungan sebesar Rp60.000.000. (downstream)
B35: 4. Sampai dengan tanggal 31 Desember 2024, tanah tersebut masih dimiliki oleh PT Sentosa.
B37: Diminta :
B38: A. Buatlah jurnal eliminasi yang dibutuhkan!
B39: B. Buatlah kertas kerja konsolidasi!
B41: Jawaban
B42: A. MEMBUAT JURNAL
B43: 1. Mencatat Jurnal yang dibutuhkan:
B44: 1 Januari 2024
B45: Investasi pada PT Sentosa
B46: Kas | D46: =C45 -> 0
B47: (mencatat pembelian saham PT Sentosa)
B49: 31 Desember 2024
B50: Investasi pada PT Sentosa
B51: Bagian Laba atas PT Sentosa | D51: =C50 -> 0
B53: (mencatat bagian PT Nusantara atas laba neto PT Sentosa)
B55: 31 Desember 2024
B56: Kas
B57: Investasi pada PT Sentosa | D57: =C56 -> 0
B59: (mencatat bagian PT Nusantara atas dividen PT Sentosa)
B61: 31 Desember 2024
B62: Bagian Laba Atas PT Sentosa
B63: Investasi pada PT Sentosa | D63: =C62 -> 0
B64: (mencatat keuntungan transaksi Downstream yang belum terealisasi)
B66: 2. Perhitungan Jurnal Eliminasi
B67: Keterangan | C67: PT Nusantara | D67: Kepentingan Nonpengendali | E67: = | F67: Saham Biasa | G67: Saldo Laba
C68: 0.8 | D68: 0.2
B69: Saldo Awal | C69: =C45 -> 0 | F69: =F19 -> 0 | G69: =F20 -> 0
B70: Laba Neto (a) | C70: =C50 -> 0 | G70: =F21-(E24+E25+E26) -> 0
B71: Dividen | C71: =-D57 -> 0 | G71: =-E28 -> 0
B72: Saldo Akhir (b) | C72: =SUM(C69:C71) -> 0 | D72: =SUM(D69:D71) -> 0 | E72: = | F72: =SUM(F69:F71) -> 0 | G72: =SUM(G69:G71) -> 0
B73: Keuntungan Belum Terealisasi (c) | C73: =-D63 -> 0
B74: Saldo Akhir Disesuaikan (b-c) | C74: =SUM(C72:C73) -> 0
B75: Bagian Laba atas PT Sentosa (a-c) | C75: =C70+C73 -> 0
B77: 2. Jurnal Eliminasi
B78: (1) Mengeliminasi ekuitas dan investasi pada PT Sentosa
B79: Saham Biasa | C79: =F69 -> 0
B80: Saldo Laba | C80: =G69 -> 0
B81: Bagian Laba atas PT Sentosa | C81: =C75 -> 0
B82: Bagian Laba Kepentingan Nonpengendali | C82: =D70 -> 0
B83: Dividen Diumumkan | D83: =-G71 -> 0
B84: Investasi pada PT Sentosa | D84: =C74 -> 0
B85: Kepentingan Nonpengendali | D85: =D72 -> 0
B86: (mengeliminasi ekuitas dan investasi pada PT Sentosa)
B89: (2) Mengeliminasi keuntungan penjualan tanah yang belum terealisasi
B90: Keuntungan Penjualan Tanah | C90: =C62 -> 0
B91: Tanah | D91: =C90 -> 0
B92: (mengeliminasi keuntungan penjualan tanah)

Sheet Kertas Kerja COKAS
A1: KERTAS KERJA KONSOLIDASI
F2: (Dalam Rp,-)
A3: Nama Akun | B3: PT Nusantara | C3: PT Sentosa | D3: Jurnal Eliminasi | F3: Konsolidasi
D4: Debit | E4: Kredit
A5: LAPORAN LABA RUGI
A6: Penjualan | B6: =CokasBABIII!D21 -> 0 | C6: =CokasBABIII!F21 -> 0 | F6: =B6+C6-D6+E6 -> 0
A7: Beban Pokok Penjualan | B7: =-CokasBABIII!C24 -> 0 | C7: =-CokasBABIII!E24 -> 0 | F7: =B7+C7+D7-E7 -> 0
A8: Beban Operasi | B8: =-CokasBABIII!C25 -> 0 | C8: =-CokasBABIII!E25 -> 0 | F8: =B8+C8+D8-E8 -> 0
A9: Beban Penyusutan | B9: =-CokasBABIII!C26 -> 0 | C9: =-CokasBABIII!E26 -> 0 | F9: =B9+C9+D9-E9 -> 0
A10: Beban Amortisasi | B10: =-CokasBABIII!C27 -> 0 | F10: =B10+C10+D10-E10 -> 0
A11: Bagian Laba atas PT Sentosa | B11: =CokasBABIII!D22 -> 0 | D11: =CokasBABIII!C81 -> 0 | F11: =B11+C11-D11+E11 -> 0
A12: Keuntungan Penjualan Tanah | B12: =CokasBABIII!D23 -> 0 | D12: =CokasBABIII!C90 -> 0 | F12: =B12+C12-D12+E12 -> 0
A13: Laba Neto Konsolidasi | B13: =SUM(B6:B12) -> 0 | C13: =SUM(C6:C12) -> 0 | F13: =SUM(F6:F12) -> 0
A14: Bagian Laba Kepentingan Nonpengendali | D14: =CokasBABIII!C82 -> 0 | F14: =B14+C14-D14+E14 -> 0
A15: Bagian Induk atas Laba Neto | B15: =SUM(B13:B14) -> 0 | C15: =SUM(C13:C14) -> 0 | F15: =SUM(F13:F14) -> 0
A17: LAPORAN PERUBAHAN SALDO LABA
A18: Saldo Laba Awal | B18: =CokasBABIII!D20 -> 0 | C18: =CokasBABIII!F20 -> 0 | D18: =CokasBABIII!C80 -> 0 | F18: =B18+C18-D18+E18 -> 0
A19: Laba Neto | B19: =B15 -> 0 | C19: =C15 -> 0 | F19: =F15 -> 0
A20: (-) Dividen Diumumkan | B20: =-CokasBABIII!C28 -> 0 | C20: =-CokasBABIII!E28 -> 0 | E20: =CokasBABIII!C83 -> 0 | F20: =B20+C20+D20+E20 -> 0
A21: Saldo Laba Akhir | B21: =SUM(B18:B20) -> 0 | C21: =SUM(C18:C20) -> 0 | F21: =SUM(F18:F20) -> 0
A23: LAPORAN POSISI KEUANGAN
A24: Kas dan Setara kas | B24: =CokasBABIII!C8 -> 0 | C24: =CokasBABIII!E8 -> 0 | F24: =B24+C24+D24-E24 -> 0
A25: Piutang Usaha | B25: =CokasBABIII!C9 -> 0 | C25: =CokasBABIII!E9 -> 0 | F25: =B25+C25+D25-E25 -> 0
A26: Persediaan | B26: =CokasBABIII!C10 -> 0 | C26: =CokasBABIII!E10 -> 0 | F26: =B26+C26+D26-E26 -> 0
A27: Investasi pada PT Sentosa | B27: =CokasBABIII!C11 -> 0 | C27: =CokasBABIII!E11 -> 0 | E27: =CokasBABIII!D84 -> 0 | F27: =B27+C27+D27-E27 -> 0
A28: Tanah | B28: =CokasBABIII!C12 -> 0 | C28: =CokasBABIII!E12 -> 0 | E28: =CokasBABIII!D91 -> 0 | F28: =B28+C28+D28-E28 -> 0
A29: Bangunan & Peralatan | B29: =CokasBABIII!C13 -> 0 | C29: =CokasBABIII!E13 -> 0 | F29: =B29+C29+D29-E29 -> 0
A30: Akumulasi Penyusutan | B30: =-CokasBABIII!D15 -> 0 | C30: =-CokasBABIII!F15 -> 0 | F30: =B30+C30+D30-E30 -> 0
A31: Merek Dagang | B31: =CokasBABIII!C14 -> 0 | C31: =-CokasBABIII!F16 -> 0 | F31: =B31+C31+D31-E31 -> 0
A32: Akumulasi Amortisasi | B32: =-CokasBABIII!D16 -> 0 | C32: 0 | F32: =B32+C32+D32-E32 -> 0
A33: Total Aset | B33: =SUM(B24:B32) -> 0 | C33: =SUM(C24:C32) -> 0 | F33: =SUM(F24:F32) -> 0
A34: Utang Usaha | B34: =CokasBABIII!D17 -> 0 | C34: =CokasBABIII!F17 -> 0 | F34: =B34+C34-D34+E34 -> 0
A35: Utang Obligasi | B35: =CokasBABIII!D18 -> 0 | C35: =CokasBABIII!F18 -> 0 | F35: =B35+C35-D35+E35 -> 0
A36: Saham Biasa | B36: =CokasBABIII!D19 -> 0 | C36: =CokasBABIII!F19 -> 0 | D36: =CokasBABIII!C79 -> 0 | F36: =B36+C36-D36+E36 -> 0
A37: Saldo Laba | B37: =B21 -> 0 | C37: =C21 -> 0 | F37: =F21 -> 0
A38: Kepentingan Nonpengendali | E38: =CokasBABIII!D85 -> 0 | F38: =B38+C38-D38+E38 -> 0
A39: Total Liabilitas dan Ekuitas | B39: =SUM(B34:B37) -> 0 | C39: =SUM(C34:C38) -> 0 | D39: =SUM(D6:D15)+SUM(D18:D21)+SUM(D24:D38) -> 0 | E39: =SUM(E6:E15)+SUM(E18:E21)+SUM(E24:E38) -> 0 | F39: =SUM(F34:F38) -> 0

Sheet Kasus 1  BAB III
B1: PT CAHAYA DAN PT BULAN
B2: NERACA SALDO
B3: PER 31 DESEMBER 2025
F5: (Dalam Rp,-)
B6: Akun | C6: PT Cahaya | E6: PT Bulan
C7: Debit | D7: Kredit | E7: Debit | F7: Kredit
B8: Kas dan Setara kas
B9: Piutang Usaha
B10: Persediaan
B11: Investasi pada PT Bulan
B12: Tanah
B13: Bangunan & Peralatan
B14: Merek Dagang
B15: Akumulasi Penyusutan
B16: Akumulasi Amortisasi
B17: Utang Usaha
B18: Utang Obligasi
B19: Saham Biasa
... B28: Dividen Diumumkan
B29: Total | C29: =SUM(C8:C28) -> 0 | D29: =SUM(D8:D28) -> 0 | E29: =SUM(E8:E28) -> 0 | F29: =SUM(F8:F28) -> 0
B31: Informasi Tambahan:
B32: 1. Pada 1 Januari 2025, PT Cahaya mengakuisisi kepemilikan sebesar 80% atas saham PT Bulan dengan harga perolehan sesuai nilai bukunya, yaitu Rp800.000.000 (80% x (700.000.000 + 300.000.000)). Nilai wajar kepentingan nonpengendali diketahui setara dengan nilai bukunya, yakni sebesar Rp200.000.000 ((100%-80%) x (700.000.000 + 300.000.000)).
B33: 2. Selama tahun 2025, PT Bulan melaporkan perolehan laba neto sebesar Rp300.000.000 dan mengumumkan pembagian dividen sebesar Rp80.000.000
B34: 3. Di dalam saldo akun tanah milik PT Cahaya, tercatat sebidang tanah yang sebelumnya dibeli dari PT Bulan seharga Rp90.000.000. Tanah itu sendiri sebelumnya diperoleh PT Bulan dari pihak luar (non-afiliasi) dengan harga Rp60.000.000, sehingga atas penjualan tersebut PT Bulan mencatat keuntungan sebesar Rp30.000.000. (Upstream)
B35: 4. Sampai dengan tanggal 31 Desember 2025, tanah tersebut masih dimiliki oleh PT Cahaya.
B37: Diminta :
B38: A. Buatlah jurnal eliminasi yang dibutuhkan!
B39: B. Buatlah kertas kerja konsolidasi!
B41: Jawaban
B42: A. MEMBUAT JURNAL
B43: 1. Mencatat Jurnal yang dibutuhkan:
B44: 1 Januari 2025
B45: Investasi pada PT Bulan
B46: Kas | D46: =C45 -> 0
B47: (mencatat pembelian saham PT Bulan)
B49: 31 Desember 2025
B50: Investasi pada PT Bulan
B51: Bagian Laba atas PT Bulan | D51: =C50 -> 0
B53: (mencatat bagian PT Cahaya atas laba neto PT Bulan)
B55: 31 Desember 2025
B56: Kas
B57: Investasi pada PT Bulan | D57: =C56 -> 0
B59: (mencatat bagian PT Cahaya atas dividen PT Bulan)
B61: 31 Desember 2025
B62: Bagian Laba Atas PT Bulan
B63: Investasi pada PT Bulan | D63: =C62 -> 0
B64: (mencatat keuntungan transaksi Upstream yang belum terealisasi)
B66: 2. Perhitungan Jurnal Eliminasi
B67: Keterangan | C67: PT Cahaya | D67: Kepentingan Nonpengendali | E67: = | F67: Saham Biasa | G67: Saldo Laba
C68: 0.8 | D68: 0.2
B69: Saldo Awal | C69: =C45 -> 0 | F69: =F19 -> 0 | G69: =F20 -> 0
B70: Laba Neto (a) | C70: =C50 -> 0 | G70: =(F21+F23)-(E24+E25+E26) -> 0
B71: Dividen | C71: =-D57 -> 0 | G71: =-E28 -> 0
B72: Saldo Akhir (b) | C72: =SUM(C69:C71) -> 0 | D72: =SUM(D69:D71) -> 0 | E72: = | F72: =SUM(F69:F71) -> 0 | G72: =SUM(G69:G71) -> 0
B73: Keuntungan Belum Terealisasi (c) | C73: =-D63 -> 0 | D73: =-(D63/C68)*D68 -> 0
B74: Saldo Akhir Disesuaikan (b-c) | C74: =SUM(C72:C73) -> 0 | D74: =D72+D73 -> 0
B75: Bagian Laba atas PT Bulan (a-c) | C75: =C70+C73 -> 0
B76: Bagian Laba KNP (a-c) | D76: =D70+D73 -> 0
B78: 2. Jurnal Eliminasi
B79: (1) Mengeliminasi ekuitas dan investasi pada PT Bulan
B80: Saham Biasa | C80: =F69 -> 0
B81: Saldo Laba | C81: =G69 -> 0
B82: Bagian Laba atas PT Bulan | C82: =C75 -> 0
B83: Bagian Laba Kepentingan Nonpengendali | C83: =D76 -> 0
B84: Dividen Diumumkan | D84: =-G71 -> 0
B85: Investasi pada PT Bulan | D85: =C74 -> 0
B86: Kepentingan Nonpengendali | D86: =D74 -> 0
B87: (mengeliminasi ekuitas dan investasi pada PT Bulan)
B89: (2) Mengeliminasi keuntungan penjualan tanah yang belum terealisasi
B90: Keuntungan Penjualan Tanah | C90: =F23 -> 0
B91: Tanah | D91: =C90 -> 0
B92: (mengeliminasi keuntungan penjualan tanah)

Sheet Kertas Kerja Kasus
A1: KERTAS KERJA KONSOLIDASI
F2: (Dalam Rp,-)
A3: Nama Akun | B3: PT Cahaya | C3: PT Bulan | D3: Jurnal Eliminasi | F3: Konsolidasi
D4: Debit | E4: Kredit
A5: LAPORAN LABA RUGI
A6: Penjualan | B6: ='Kasus 1 BAB III'!D21 -> 0 | C6: ='Kasus 1 BAB III'!F21 -> 0 | F6: =B6+C6-D6+E6 -> 0
A7: Beban Pokok Penjualan | B7: =-'Kasus 1 BAB III'!C24 -> 0 | C7: =-'Kasus 1 BAB III'!E24 -> 0 | F7: =B7+C7+D7-E7 -> 0
A8: Beban Operasi | B8: =-'Kasus 1 BAB III'!C25 -> 0 | C8: =-'Kasus 1 BAB III'!E25 -> 0 | F8: =B8+C8+D8-E8 -> 0
A9: Beban Penyusutan | B9: =-'Kasus 1 BAB III'!C26 -> 0 | C9: =-'Kasus 1 BAB III'!E26 -> 0 | F9: =B9+C9+D9-E9 -> 0
A10: Beban Amortisasi | B10: =-'Kasus 1 BAB III'!C27 -> 0 | C10: =-'Kasus 1 BAB III'!E27 -> 0 | F10: =B10+C10+D10-E10 -> 0
A11: Bagian Laba atas PT Bulan | B11: ='Kasus 1 BAB III'!D22 -> 0 | C11: =-'Kasus 1 BAB III'!E22 -> 0 | D11: =B11 -> 0 | F11: =B11+C11-D11+E11 -> 0
A12: Keuntungan Penjualan Tanah | C12: ='Kasus 1 BAB III'!F23 -> 0 | D12: =C12 -> 0 | F12: =B12+C12-D12+E12 -> 0
A13: Laba Neto Konsolidasi | B13: =SUM(B6:B12) -> 0 | C13: =SUM(C6:C12) -> 0 | F13: =SUM(F6:F12) -> 0
A14: Bagian Laba Kepentingan Nonpengendali | D14: ='Kasus 1 BAB III'!D76 -> 0 | F14: =B14+C14-D14+E14 -> 0
A15: Bagian Induk atas Laba Neto | B15: =SUM(B13:B14) -> 0 | C15: =SUM(C13:C14) -> 0 | F15: =SUM(F13:F14) -> 0
A17: LAPORAN PERUBAHAN SALDO LABA
A18: Saldo Laba Awal | B18: ='Kasus 1 BAB III'!D20 -> 0 | C18: ='Kasus 1 BAB III'!F20 -> 0 | D18: ='Kasus 1 BAB III'!C81 -> 0 | F18: =B18+C18-D18+E18 -> 0
A19: Laba Neto | B19: =B15 -> 0 | C19: =C15 -> 0 | F19: =F15 -> 0
A20: (-) Dividen Diumumkan | B20: =-'Kasus 1 BAB III'!C28 -> 0 | C20: =-'Kasus 1 BAB III'!E28 -> 0 | E20: ='Kasus 1 BAB III'!D84 -> 0 | F20: =B20+C20+D20+E20 -> 0
A21: Saldo Laba Akhir | B21: =SUM(B18:B20) -> 0 | C21: =SUM(C18:C20) -> 0 | F21: =SUM(F18:F20) -> 0
A23: LAPORAN POSISI KEUANGAN
A24: Kas dan Setara kas | B24: ='Kasus 1 BAB III'!C8 -> 0 | C24: ='Kasus 1 BAB III'!E8 -> 0 | F24: =B24+C24+D24-E24 -> 0
A25: Piutang Usaha | B25: ='Kasus 1 BAB III'!C9 -> 0 | C25: ='Kasus 1 BAB III'!E9 -> 0 | F25: =B25+C25+D25-E25 -> 0
A26: Persediaan | B26: ='Kasus 1 BAB III'!C10 -> 0 | C26: ='Kasus 1 BAB III'!E10 -> 0 | F26: =B26+C26+D26-E26 -> 0
A27: Investasi pada PT Bulan | B27: ='Kasus 1 BAB III'!C11 -> 0 | C27: ='Kasus 1 BAB III'!E11 -> 0 | E27: ='Kasus 1 BAB III'!D85 -> 0 | F27: =B27+C27+D27-E27 -> 0
A28: Tanah | B28: ='Kasus 1 BAB III'!C12 -> 0 | C28: ='Kasus 1 BAB III'!E12 -> 0 | E28: ='Kasus 1 BAB III'!D91 -> 0 | F28: =B28+C28+D28-E28 -> 0
A29: Bangunan & Peralatan | B29: ='Kasus 1 BAB III'!C13 -> 0 | C29: ='Kasus 1 BAB III'!E13 -> 0 | F29: =B29+C29+D29-E29 -> 0
A30: Akumulasi Penyusutan | B30: =-'Kasus 1 BAB III'!D15 -> 0 | C30: =-'Kasus 1 BAB III'!F15 -> 0 | F30: =B30+C30+D30-E30 -> 0
A31: Merek Dagang | B31: ='Kasus 1 BAB III'!C14 -> 0 | C31: ='Kasus 1 BAB III'!E14 -> 0 | F31: =B31+C31+D31-E31 -> 0
A32: Akumulasi Amortisasi | B32: =-'Kasus 1 BAB III'!D16 -> 0 | C32: ='Kasus 1 BAB III'!F16 -> 0 | F32: =B32+C32+D32-E32 -> 0
A33: Total Aset | B33: =SUM(B24:B32) -> 0 | C33: =SUM(C24:C32) -> 0 | F33: =SUM(F24:F32) -> 0
A34: Utang Usaha | B34: ='Kasus 1 BAB III'!D17 -> 0 | C34: ='Kasus 1 BAB III'!F17 -> 0 | F34: =B34+C34-D34+E34 -> 0
A35: Utang Obligasi | B35: ='Kasus 1 BAB III'!D18 -> 0 | C35: ='Kasus 1 BAB III'!F18 -> 0 | F35: =B35+C35-D35+E35 -> 0
A36: Saham Biasa | B36: ='Kasus 1 BAB III'!D19 -> 0 | C36: ='Kasus 1 BAB III'!F19 -> 0 | D36: ='Kasus 1 BAB III'!C80 -> 0 | F36: =B36+C36-D36+E36 -> 0
A37: Saldo Laba | B37: =B21 -> 0 | C37: =C21 -> 0 | F37: =B37 -> 0
A38: Kepentingan Nonpengendali | E38: ='Kasus 1 BAB III'!D86 -> 0 | F38: =B38+C38-D38+E38 -> 0
A39: Total Liabilitas dan Ekuitas | B39: =SUM(B34:B38) -> 0 | C39: =SUM(C34:C38) -> 0 | D39: =SUM(D6:D15)+SUM(D18:D21)+SUM(D24:D38) -> 0 | E39: =SUM(E6:E15)+SUM(E18:E21)+SUM(E24:E38) -> 0 | F39: =SUM(F34:F38) -> 0

Sheet BAB IV

Sheet Cokas
C2: PT LOKI DAN PT JENA
C3: NERACA SALDO
C4: PER 31 DESEMBER 2026
C5: (Dalam Rp,-)
C6: AKUN | D6: PT LOKI | F6: PT JENA
D7: DEBIT | E7: KREDIT | F7: DEBIT | G7: KREDIT
C8: Kas dan Setara kas
C9: Piutang Usaha
C10: Piutang Bunga
C11: Persediaan
C12: Investasi pada PT JENA
C13: Investasi pada Obligasi
C14: Tanah
C15: Bangunan & Peralatan
C16: Merek Dagang
C17: Akumulasi Penyusutan
C18: Akumulasi Amortisasi
C19: Utang Usaha
... C32: Dividen Diumumkan
C33: Total | D33: =SUM(D8:D32) -> 0 | E33: =SUM(E8:E32) -> 0 | F33: =SUM(F8:F32) -> 0 | G33: =SUM(G8:G32) -> 0
C35: Informasi Tambahan: | I35: Saham
B36: 1 | C36: PT LOKI telah melakukan pembelian 75% saham PT JENA di 1 Januari 2026 pada nilai bukunya | I36: Persentase
C37: sebesar Rp. 900.000.000. Nilai wajar kepentingan nonpengendali sama dengan nilai bukunya, yaitu Rp. | I37: Nilai Buku
C38: 300.000.000. | I38: Nilai Wajar KNP
B39: 2 | C39: Selama 2026, PT JENA melaporkan perolehan laba neto (laba bersih) sebesar Rp. 200.000.000 dan | I39: Laba Neto
C40: mengumumkan pembagian dividen sebesar Rp. 50.000.000. | I40: Dividen
B41: 3 | C41: Pada 1 Juli 2026, PT LOKI menerbitkan obligasi pada nilai par yaitu sebesar Rp. 500.000.000 dan jatuh | I41: Obligasi
C42: tempo dalam 5 tahun. Tingkat bunga obligasi tersebut adalah 8% dan akan dibayarkan secara semesteran, | I42: Nilai Par
C43: yaitu tiap tanggal 1 Januari dan 1 Juli. PT JENA membeli 60% obligasi tersebut dan bermaksud memilikinya | I43: Bunga
C44: sampai jatuh tempo. | I44: Semesteran (6/12)
I45: Persentase
C46: Diminta:
B47: 1 | C47: Atas penerbitan obligasi tersebut, buatlah pencatatan yang dilakukan PT LOKI dan PT JENA!
B48: 2 | C48: Buatlah tabel perhitungan jurnal eliminasi dan jurnal eliminasinya!
B49: 3 | C49: Buatlah kertas kerja konsolidasian 2026!
C51: Jawaban:
B52: 1 | C52: Pencatatan PT LOKI atas penerbitan obligasi
C53: 1 Juli 2026 (Mencatat penerbitan obligasi pada nilai par)
C54: Kas | E54: =J42 -> 0
D55: Utang Obligasi | F55: =E54 -> 0
C56: 31 Desember 2026 (Mencatat pengakuan bunga obligasi terutang
C57: Beban Bunga | E57: =J43*J44*E54 -> 0
D58: Utang Bunga | F58: =E57 -> 0
C59: Pencatatan PT JENA atas pembelian obligasi
C60: 1 Juli 2026 (Mencatat pembelian obligasi PT LOKI sebesar 60% pada nilai par)
C61: Investasi pada Obligasi | E61: =J45*E54 -> 0
D62: Kas | F62: =E61 -> 0
C63: 31 Desember 2026 (Mencatat pengakuan piutang bunga obligasi)
C64: Piutang Bunga | E64: =J43*J44*E61 -> 0
D65: Pendapatan Bunga | F65: =E64 -> 0
B67: 2 | C67: Tabel Perhitungan Jurnal Eliminasi
E69: PT LOKI | F69: KNP | G69: = | H69: Saham Biasa | I69: Saldo Awal
E70: =J36 -> 0 | F70: =100%-E70 -> 1
D71: Saldo Awal | E71: =J37 -> 0 | F71: =J38 -> 0 | H71: =G22 -> 0 | I71: =G23 -> 0
D72: Laba Neto | E72: =I72*E70 -> 0 | F72: =I72*F70 -> 0 | I72: =J39 -> 0
D73: Dividen | E73: =I73*E70 -> 0 | F73: =I73*F70 -> 0 | I73: =-J40 -> 0
D74: Saldo Akhir | E74: =SUM(E71:E73) -> 0 | F74: =SUM(F71:F73) -> 0 | G74: = | H74: =SUM(H71:H73) -> 0 | I74: =SUM(I71:I73) -> 0
C76: Jurnal Eliminasi
B77: a | C77: Mengeliminasi ekuitas dan investasi pada PT JENA
C78: Saham Biasa | E78: =H71 -> 0
C79: Saldo Laba | E79: =I71 -> 0
C80: Bagian Laba atas PT JENA | E80: =E72 -> 0
C81: Bagian Laba KNP | E81: =F72 -> 0
D82: Dividen Diumumkan | F82: =I73*-1 -> 0
D83: Investasi pada PT JENA | F83: =E74 -> 0
D84: KNP | F84: =F74 -> 0
B85: b | C85: Mengeliminasi utang obligasi PT LOKI yang dibeli oleh PT JENA
C86: Utang Obligasi | E86: =F87 -> 0
D87: Investasi pada Obligasi | F87: =E61 -> 0
B88: c | C88: Mengeliminasi pendapatan bunga & beban bunga dari obligasi PT LOKI yang dibeli oleh PT JENA
C89: Pendapatan Bunga | E89: =F65 -> 0
D90: Beban Bunga | F90: =E89 -> 0
B91: d | C91: Mengeliminasi piutang bunga & utang bunga dari obligasi PT LOKI yang dibeli oleh PT JENA
C92: Utang Bunga | E92: =F93 -> 0
D93: Piutang Bunga | F93: =F65 -> 0

Sheet LK Cokas
B2: 3 | C2: Kertas Kerja Konsolidasi
C3: PT LOKI DAN PT JENA
C4: LAPORAN KONSOLIDASI
C5: PER 31 DESEMBER 2026
C6: (Dalam Rp,-)
C7: Nama Akun | D7: PT LOKI | E7: PT JENA | F7: Jurnal Eliminasi | H7: Konsolidasi
F8: Debit | G8: Kredit
C9: Laporan Laba Rugi
C10: Penjualan | D10: =Cokas!E24 -> 0 | E10: =Cokas!G24 -> 0 | H10: =0+D10+E10-F10+G10 -> 0
C11: Beban Pokok Penjualan | D11: =-Cokas!D27 -> 0 | E11: =-Cokas!F27 -> 0 | H11: =0+D11+E11-F11+G11 -> 0
C12: Beban Operasi | D12: =-Cokas!D28 -> 0 | E12: =-Cokas!F28 -> 0 | H12: =0+D12+E12-F12+G12 -> 0
C13: Beban Penyusutan | D13: =-Cokas!D29 -> 0 | E13: =-Cokas!F29 -> 0 | H13: =0+D13+E13-F13+G13 -> 0
C14: Beban Amortisasi | D14: =-Cokas!D30 -> 0 | H14: =0+D14+E14-F14+G14 -> 0
C15: Beban Bunga | D15: =-Cokas!D31 -> 0 | G15: =Cokas!F90 -> 0 | H15: =0+D15+E15-F15+G15 -> 0
C16: Bagian Laba atas PT JENA | D16: =Cokas!E25 -> 0 | F16: =Cokas!E80 -> 0 | H16: =0+D16+E16-F16+G16 -> 0
C17: Pendapatan Bunga | E17: =Cokas!G26 -> 0 | F17: =Cokas!E89 -> 0 | H17: =0+D17+E17-F17+G17 -> 0
C18: Laba Neto Konsolidasian | D18: =SUM(D10:D17) -> 0 | E18: =SUM(E10:E17) -> 0 | F18: =SUM(F10:F17) -> 0 | G18: =SUM(G10:G17) -> 0 | H18: =SUM(H10:H17) -> 0
C19: Bagian Laba Kepentingan Nonpengendali | F19: =Cokas!E81 -> 0 | H19: =0+D19+E19-F19+G19 -> 0
C20: Bagian Induk atas Laba Neto | D20: =SUM(D18:D19) -> 0 | E20: =SUM(E18:E19) -> 0 | F20: =SUM(F18:F19) -> 0 | G20: =SUM(G18:G19) -> 0 | H20: =SUM(H18:H19) -> 0
C22: Laporan Perubahan Saldo Laba
C23: Saldo Laba Awal | D23: =Cokas!E23 -> 0 | E23: =Cokas!G23 -> 0 | F23: =Cokas!E79 -> 0 | H23: =0+D23+E23-F23+G23 -> 0
C24: Laba Neto | D24: =D20 -> 0 | E24: =E20 -> 0 | F24: =F20 -> 0 | G24: =G20 -> 0 | H24: =0+D24+E24-F24+G24 -> 0
C25: Dikurangi: Dividen | D25: =-Cokas!D32 -> 0 | E25: =-Cokas!F32 -> 0 | G25: =Cokas!F82 -> 0 | H25: =0+D25+E25-F25+G25 -> 0
C26: Saldo Laba Akhir | D26: =SUM(D23:D25) -> 0 | E26: =SUM(E23:E25) -> 0 | F26: =SUM(F23:F25) -> 0 | G26: =SUM(G23:G25) -> 0 | H26: =SUM(H23:H25) -> 0
C28: Laporan Posisi Keuangan
C29: Kas dan Setara Kas | D29: =Cokas!D8 -> 0 | E29: =Cokas!F8 -> 0 | H29: =0+D29+E29+F29-G29 -> 0
C30: Piutang Usaha | D30: =Cokas!D9 -> 0 | E30: =Cokas!F9 -> 0 | H30: =0+D30+E30+F30-G30 -> 0
C31: Piutang Bunga | E31: =Cokas!F10 -> 0 | G31: =Cokas!F93 -> 0 | H31: =0+D31+E31+F31-G31 -> 0
C32: Persediaan | D32: =Cokas!D11 -> 0 | E32: =Cokas!F11 -> 0 | H32: =0+D32+E32+F32-G32 -> 0
C33: Investasi pada PT JENA | D33: =Cokas!D12 -> 0 | G33: =Cokas!F83 -> 0 | H33: =0+D33+E33+F33-G33 -> 0
C34: Investasi pada Obligasi | E34: =Cokas!F13 -> 0 | G34: =Cokas!F87 -> 0 | H34: =0+D34+E34+F34-G34 -> 0
C35: Tanah | D35: =Cokas!D14 -> 0 | E35: =Cokas!F14 -> 0 | H35: =0+D35+E35+F35-G35 -> 0
C36: Bangunan dan Peralatan | D36: =Cokas!D15 -> 0 | E36: =Cokas!F15 -> 0 | H36: =0+D36+E36+F36-G36 -> 0
C37: Merek Dagang | D37: =Cokas!D16 -> 0 | H37: =0+D37+E37+F37-G37 -> 0
C38: Akumulasi Penyusutan | D38: =-Cokas!E17 -> 0 | E38: =-Cokas!G17 -> 0 | H38: =0+D38+E38+F38-G38 -> 0
C39: Akumulasi Amortisasi | D39: =-Cokas!E18 -> 0 | H39: =0+D39+E39+F39-G39 -> 0
C40: Tota Aset | D40: =SUM(D29:D39) -> 0 | E40: =SUM(E29:E39) -> 0 | H40: =SUM(H29:H39) -> 0
C41: Utang Usaha | D41: =Cokas!E19 -> 0 | E41: =Cokas!G19 -> 0 | H41: =0+D41+E41-F41+G41 -> 0
C42: Utang Obligasi | D42: =Cokas!E20 -> 0 | E42: =Cokas!G20 -> 0 | F42: =Cokas!E86 -> 0 | H42: =0+D42+E42-F42+G42 -> 0
C43: Utang Bunga | D43: =Cokas!E21 -> 0 | F43: =Cokas!E92 -> 0 | H43: =0+D43+E43-F43+G43 -> 0
C44: Saham Biasa | D44: =Cokas!E22 -> 0 | E44: =Cokas!G22 -> 0 | F44: =Cokas!E78 -> 0 | H44: =0+D44+E44-F44+G44 -> 0
C45: Saldo Laba | D45: =D26 -> 0 | E45: =E26 -> 0 | F45: =F26 -> 0 | G45: =G26 -> 0 | H45: =0+D45+E45-F45+G45 -> 0
C46: Kepentingan Nonpengendali | G46: =Cokas!F84 -> 0 | H46: =0+D46+E46-F46+G46 -> 0
C47: Total Liabilitas & Ekuitas | D47: =SUM(D41:D46) -> 0 | E47: =SUM(E41:E46) -> 0 | F47: =SUM(F29:F46) -> 0 | G47: =SUM(G29:G46) -> 0 | H47: =SUM(H41:H46) -> 0

Sheet Kasus 1
C2: PT YOLKA DAN PT NERISA
C3: NERACA SALDO
C4: PER 31 DESEMBER 2026
C5: (Dalam Rp,-)
C6: AKUN | D6: PT YOLKA | F6: PT NERISA
D7: DEBIT | E7: KREDIT | F7: DEBIT | G7: KREDIT
C8: Kas dan Setara kas
C9: Piutang Usaha
C10: Piutang Bunga
C11: Persediaan
C12: Investasi pada PT NERISA
C13: Investasi pada Obligasi
C14: Tanah
C15: Bangunan & Peralatan
C16: Merek Dagang
C17: Akumulasi Penyusutan
C18: Akumulasi Amortisasi
C19: Utang Usaha
... C32: Dividen Diumumkan
C33: Total | D33: =SUM(D8:D32) -> 0 | E33: =SUM(E8:E32) -> 0 | F33: =SUM(F8:F32) -> 0 | G33: =SUM(G8:G32) -> 0
C35: Informasi Tambahan: | I35: Saham
B36: 1 | C36: PT YOLKA telah melakukan pembelian 60% saham PT NERISA di 1 Januari 2026 pada nilai bukunya | I36: Persentase
C37: sebesar Rp. 956.250.000. Nilai wajar kepentingan nonpengendali sama dengan nilai bukunya, yaitu Rp. | I37: Nilai Buku
C38: 318.750.000. | I38: Nilai Wajar KNP
B39: 2 | C39: Selama 2026, PT NERISA melaporkan perolehan laba neto (laba bersih) sebesar Rp. 185.200.000 dan | I39: Laba Neto
C40: mengumumkan pembagian dividen sebesar Rp. 55.000.000. | I40: Dividen
B41: 3 | C41: Pada 1 Juli 2026, PT YOLKA menerbitkan obligasi pada nilai par yaitu sebesar Rp. 550.000.000 dan jatuh | I41: Obligasi
C42: tempo dalam 5 tahun. Tingkat bunga obligasi tersebut adalah 8% dan akan dibayarkan secara semesteran, | I42: Nilai Par
C43: yaitu tiap tanggal 1 Januari dan 1 Juli. PT NERISA membeli 65% obligasi tersebut dan bermaksud memilikinya | I43: Bunga
C44: sampai jatuh tempo. | I44: Semesteran (6/12)
I45: Persentase
C46: Diminta:
B47: 1 | C47: Atas penerbitan obligasi tersebut, buatlah pencatatan yang dilakukan PT YOLKA dan PT NERISA!
B48: 2 | C48: Buatlah tabel perhitungan jurnal eliminasi dan jurnal eliminasinya!
B49: 3 | C49: Buatlah kertas kerja konsolidasian 2026!
C51: Jawaban:
B52: 1 | C52: Pencatatan PT LOKI atas penerbitan obligasi
C53: 1 Juli 2026 (Mencatat penerbitan obligasi pada nilai par)
C54: Kas | E54: =J42 -> 0
D55: Utang Obligasi | F55: =E54 -> 0
C56: 31 Desember 2026 (Mencatat pengakuan bunga obligasi terutang
C57: Beban Bunga | E57: =J43*J44*E54 -> 0
D58: Utang Bunga | F58: =E57 -> 0
C59: Pencatatan PT JENA atas pembelian obligasi
C60: 1 Juli 2026 (Mencatat pembelian obligasi PT YOLKA sebesar 65% pada nilai par)
C61: Investasi pada Obligasi | E61: =J45*E54 -> 0
D62: Kas | F62: =E61 -> 0
C63: 31 Desember 2026 (Mencatat pengakuan piutang bunga obligasi)
C64: Piutang Bunga | E64: =J43*J44*E61 -> 0
D65: Pendapatan Bunga | F65: =E64 -> 0
B67: 2 | C67: Tabel Perhitungan Jurnal Eliminasi
E69: PT YOLKA | F69: KNP | G69: = | H69: Saham Biasa | I69: Saldo Awal
E70: =J36 -> 0 | F70: =100%-E70 -> 1
D71: Saldo Awal | E71: =J37 -> 0 | F71: =J38 -> 0 | H71: =G22 -> 0 | I71: =G23 -> 0
D72: Laba Neto | E72: =I72*E70 -> 0 | F72: =I72*F70 -> 0 | I72: =J39 -> 0
D73: Dividen | E73: =I73*E70 -> 0 | F73: =I73*F70 -> 0 | I73: =-J40 -> 0
D74: Saldo Akhir | E74: =SUM(E71:E73) -> 0 | F74: =SUM(F71:F73) -> 0 | G74: = | H74: =SUM(H71:H73) -> 0 | I74: =SUM(I71:I73) -> 0
C76: Jurnal Eliminasi
B77: a | C77: Mengeliminasi ekuitas dan investasi pada PT NERISA
C78: Saham Biasa | E78: =H71 -> 0
C79: Saldo Laba | E79: =I71 -> 0
C80: Bagian Laba atas PT NERISA | E80: =E72 -> 0
C81: Bagian Laba KNP | E81: =F72 -> 0
D82: Dividen Diumumkan | F82: =I73*-1 -> 0
D83: Investasi pada PT NERISA | F83: =E74 -> 0
D84: KNP | F84: =F74 -> 0
B85: b | C85: Mengeliminasi utang obligasi PT YOLKA yang dibeli oleh PT NERISA
C86: Utang Obligasi | E86: =F87 -> 0
D87: Investasi pada Obligasi | F87: =E61 -> 0
B88: c | C88: Mengeliminasi pendapatan bunga & beban bunga dari obligasi PT YOLKA yang dibeli oleh PT NERISA
C89: Pendapatan Bunga | E89: =F65 -> 0
D90: Beban Bunga | F90: =E89 -> 0
B91: d | C91: Mengeliminasi piutang bunga & utang bunga dari obligasi PT YOLKA yang dibeli oleh PT NERISA
C92: Utang Bunga | E92: =F93 -> 0
D93: Piutang Bunga | F93: =F65 -> 0

Sheet LK KASUS 1
B2: 3 | C2: Kertas Kerja Konsolidasi
C3: PT YOLKA DAN PT NERISA
C4: LAPORAN KONSOLIDASI
C5: PER 31 DESEMBER 2026
C6: (Dalam Rp,-)
C7: Nama Akun | D7: PT YOLKA | E7: PT NERISA | F7: Jurnal Eliminasi | H7: Konsolidasi
F8: Debit | G8: Kredit
C9: Laporan Laba Rugi
C10: Penjualan | D10: ='Kasus 1'!E24 -> 0 | E10: ='Kasus 1'!G24 -> 0 | H10: =0+D10+E10-F10+G10 -> 0
C11: Beban Pokok Penjualan | D11: =-'Kasus 1'!D27 -> 0 | E11: =-'Kasus 1'!F27 -> 0 | H11: =0+D11+E11-F11+G11 -> 0
C12: Beban Operasi | D12: =-'Kasus 1'!D28 -> 0 | E12: =-'Kasus 1'!F28 -> 0 | H12: =0+D12+E12-F12+G12 -> 0
C13: Beban Penyusutan | D13: =-'Kasus 1'!D29 -> 0 | E13: =-'Kasus 1'!F29 -> 0 | H13: =0+D13+E13-F13+G13 -> 0
C14: Beban Amortisasi | D14: =-'Kasus 1'!D30 -> 0 | H14: =0+D14+E14-F14+G14 -> 0
C15: Beban Bunga | D15: =-'Kasus 1'!D31 -> 0 | G15: ='Kasus 1'!F90 -> 0 | H15: =0+D15+E15-F15+G15 -> 0
C16: Bagian Laba atas PT NERISA | D16: ='Kasus 1'!E25 -> 0 | F16: ='Kasus 1'!E80 -> 0 | H16: =0+D16+E16-F16+G16 -> 0
C17: Pendapatan Bunga | E17: ='Kasus 1'!G26 -> 0 | F17: ='Kasus 1'!E89 -> 0 | H17: =0+D17+E17-F17+G17 -> 0
C18: Laba Neto Konsolidasian | D18: =SUM(D10:D17) -> 0 | E18: =SUM(E10:E17) -> 0 | F18: =SUM(F10:F17) -> 0 | G18: =SUM(G10:G17) -> 0 | H18: =SUM(H10:H17) -> 0
C19: Bagian Laba Kepentingan Nonpengendali | F19: ='Kasus 1'!E81 -> 0 | H19: =0+D19+E19-F19+G19 -> 0
C20: Bagian Induk atas Laba Neto | D20: =SUM(D18:D19) -> 0 | E20: =SUM(E18:E19) -> 0 | F20: =SUM(F18:F19) -> 0 | G20: =SUM(G18:G19) -> 0 | H20: =SUM(H18:H19) -> 0
C22: Laporan Perubahan Saldo Laba
C23: Saldo Laba Awal | D23: ='Kasus 1'!E23 -> 0 | E23: ='Kasus 1'!G23 -> 0 | F23: ='Kasus 1'!E79 -> 0 | H23: =0+D23+E23-F23+G23 -> 0
C24: Laba Neto | D24: =D20 -> 0 | E24: =E20 -> 0 | F24: =F20 -> 0 | G24: =G20 -> 0 | H24: =0+D24+E24-F24+G24 -> 0
C25: Dikurangi: Dividen | D25: =-'Kasus 1'!D32 -> 0 | E25: =-'Kasus 1'!F32 -> 0 | G25: ='Kasus 1'!F82 -> 0 | H25: =0+D25+E25-F25+G25 -> 0
C26: Saldo Laba Akhir | D26: =SUM(D23:D25) -> 0 | E26: =SUM(E23:E25) -> 0 | F26: =SUM(F23:F25) -> 0 | G26: =SUM(G23:G25) -> 0 | H26: =SUM(H23:H25) -> 0
C28: Laporan Posisi Keuangan
C29: Kas dan Setara Kas | D29: ='Kasus 1'!D8 -> 0 | E29: ='Kasus 1'!F8 -> 0 | H29: =0+D29+E29+F29-G29 -> 0
C30: Piutang Usaha | D30: ='Kasus 1'!D9 -> 0 | E30: ='Kasus 1'!F9 -> 0 | H30: =0+D30+E30+F30-G30 -> 0
C31: Piutang Bunga | E31: ='Kasus 1'!F10 -> 0 | G31: ='Kasus 1'!F93 -> 0 | H31: =0+D31+E31+F31-G31 -> 0
C32: Persediaan | D32: ='Kasus 1'!D11 -> 0 | E32: ='Kasus 1'!F11 -> 0 | H32: =0+D32+E32+F32-G32 -> 0
C33: Investasi pada PT NERISA | D33: ='Kasus 1'!D12 -> 0 | G33: ='Kasus 1'!F83 -> 0 | H33: =0+D33+E33+F33-G33 -> 0
C34: Investasi pada Obligasi | E34: ='Kasus 1'!F13 -> 0 | G34: ='Kasus 1'!F87 -> 0 | H34: =0+D34+E34+F34-G34 -> 0
C35: Tanah | D35: ='Kasus 1'!D14 -> 0 | E35: ='Kasus 1'!F14 -> 0 | H35: =0+D35+E35+F35-G35 -> 0
C36: Bangunan dan Peralatan | D36: ='Kasus 1'!D15 -> 0 | E36: ='Kasus 1'!F15 -> 0 | H36: =0+D36+E36+F36-G36 -> 0
C37: Merek Dagang | D37: ='Kasus 1'!D16 -> 0 | H37: =0+D37+E37+F37-G37 -> 0
C38: Akumulasi Penyusutan | D38: =-'Kasus 1'!E17 -> 0 | E38: =-'Kasus 1'!G17 -> 0 | H38: =0+D38+E38+F38-G38 -> 0
C39: Akumulasi Amortisasi | D39: =-'Kasus 1'!E18 -> 0 | H39: =0+D39+E39+F39-G39 -> 0
C40: Tota Aset | D40: =SUM(D29:D39) -> 0 | E40: =SUM(E29:E39) -> 0 | H40: =SUM(H29:H39) -> 0
C41: Utang Usaha | D41: ='Kasus 1'!E19 -> 0 | E41: ='Kasus 1'!G19 -> 0 | H41: =0+D41+E41-F41+G41 -> 0
C42: Utang Obligasi | D42: ='Kasus 1'!E20 -> 0 | E42: ='Kasus 1'!G20 -> 0 | F42: ='Kasus 1'!E86 -> 0 | H42: =0+D42+E42-F42+G42 -> 0
C43: Utang Bunga | D43: ='Kasus 1'!E21 -> 0 | F43: ='Kasus 1'!E92 -> 0 | H43: =0+D43+E43-F43+G43 -> 0
C44: Saham Biasa | D44: ='Kasus 1'!E22 -> 0 | E44: ='Kasus 1'!G22 -> 0 | F44: ='Kasus 1'!E78 -> 0 | H44: =0+D44+E44-F44+G44 -> 0
C45: Saldo Laba | D45: =D26 -> 0 | E45: =E26 -> 0 | F45: =F26 -> 0 | G45: =G26 -> 0 | H45: =0+D45+E45-F45+G45 -> 0
C46: Kepentingan Nonpengendali | G46: ='Kasus 1'!F84 -> 0 | H46: =0+D46+E46-F46+G46 -> 0
C47: Total Liabilitas & Ekuitas | D47: =SUM(D41:D46) -> 0 | E47: =SUM(E41:E46) -> 0 | F47: =SUM(F29:F46) -> 0 | G47: =SUM(G29:G46) -> 0 | H47: =SUM(H41:H46) -> 0

Sheet BAB V

Sheet Kasus A
B1: PT Induk memiliki 70% saham PT Anak pada 1 Januari 2025. Pada 1 Juli 2025, PT Induk membeli 30% saham tambahan PT Anak.
C3: Keterangan | F3: : | G3: Jumlah
B4: Data: | C4: Nilai buku ekuitas PT Anak per 1 Januari 2025 | F4: :
C5: Nilai buku ekuitas PT Anak per 1 Juli 2025 | F5: :
C6: Harga pembelian 30% saham tambahan | F6: :
C7: Nilai wajar 30% kepentingan non-pengendali | F7: :
B9: Jawaban: | D9: - | F9: =

Sheet Cokas_BAB_V
B1: PT Nona memiliki 70% saham PT Melodi pada 1 Januari 2025. Pada 1 Juli 2025, PT Induk membeli 30% saham tambahan PT Melodi.
C3: Keterangan | F3: : | G3: Jumlah
B4: Data: | C4: Nilai buku ekuitas PT Melodi per 1 Januari 2025 | F4: :
C5: Nilai buku ekuitas PT Melodi per 1 Juli 2025 | F5: :
C6: Harga pembelian 30% saham tambahan | F6: :
C7: Nilai wajar 30% kepentingan non-pengendali | F7: :
B9: Jawaban: | D9: - | F9: =
